BEGIN:VCALENDAR
VERSION:2.0
PRODID:-//Fata Aquana - ECPv6.15.20//NONSGML v1.0//EN
CALSCALE:GREGORIAN
METHOD:PUBLISH
X-WR-CALNAME:Fata Aquana
X-ORIGINAL-URL:https://www.fata-aquana.nl
X-WR-CALDESC:Evenementen voor Fata Aquana
REFRESH-INTERVAL;VALUE=DURATION:PT1H
X-Robots-Tag:noindex
X-PUBLISHED-TTL:PT1H
BEGIN:VTIMEZONE
TZID:Europe/Amsterdam
BEGIN:DAYLIGHT
TZOFFSETFROM:+0100
TZOFFSETTO:+0200
TZNAME:CEST
DTSTART:20220327T010000
END:DAYLIGHT
BEGIN:STANDARD
TZOFFSETFROM:+0200
TZOFFSETTO:+0100
TZNAME:CET
DTSTART:20221030T010000
END:STANDARD
BEGIN:DAYLIGHT
TZOFFSETFROM:+0100
TZOFFSETTO:+0200
TZNAME:CEST
DTSTART:20230326T010000
END:DAYLIGHT
BEGIN:STANDARD
TZOFFSETFROM:+0200
TZOFFSETTO:+0100
TZNAME:CET
DTSTART:20231029T010000
END:STANDARD
BEGIN:DAYLIGHT
TZOFFSETFROM:+0100
TZOFFSETTO:+0200
TZNAME:CEST
DTSTART:20240331T010000
END:DAYLIGHT
BEGIN:STANDARD
TZOFFSETFROM:+0200
TZOFFSETTO:+0100
TZNAME:CET
DTSTART:20241027T010000
END:STANDARD
BEGIN:DAYLIGHT
TZOFFSETFROM:+0100
TZOFFSETTO:+0200
TZNAME:CEST
DTSTART:20250330T010000
END:DAYLIGHT
BEGIN:STANDARD
TZOFFSETFROM:+0200
TZOFFSETTO:+0100
TZNAME:CET
DTSTART:20251026T010000
END:STANDARD
BEGIN:DAYLIGHT
TZOFFSETFROM:+0100
TZOFFSETTO:+0200
TZNAME:CEST
DTSTART:20260329T010000
END:DAYLIGHT
BEGIN:STANDARD
TZOFFSETFROM:+0200
TZOFFSETTO:+0100
TZNAME:CET
DTSTART:20261025T010000
END:STANDARD
END:VTIMEZONE
BEGIN:VEVENT
DTSTART;VALUE=DATE:20250531
DTEND;VALUE=DATE:20250602
DTSTAMP:20260421T215905
CREATED:20250214T123450Z
LAST-MODIFIED:20250507T113733Z
UID:134073-1748649600-1748822399@www.fata-aquana.nl
SUMMARY:Ontdek Je Stekje Duikdag - Weekend Luxemburg
DESCRIPTION:De volgende Ontdek Je Stekje is niet 1 dag\, maar 2 dagen! En dat is niet zo gek\, want we gaan hiervoor (helemaal) naar Luxemburg. Om precies te zijn naar Lultzhausen (waar we dineren\, overnachten en ontbijten) en vanwaar we gaan duiken in het Lac de la Haute Sure. \nMeer informatie kun je hier lezen!
URL:https://www.fata-aquana.nl/agenda/ontdek-je-stekje-luxemburg-2-2-2-2-3-2/
LOCATION:Luxemburg\, Lulzhausen
CATEGORIES:Ontdek Je Stekje,Trips en reisjes,Vrijduiken
ATTACH;FMTTYPE=image/jpeg:https://www.fata-aquana.nl/wp-content/uploads/2018/01/22496131_2050228198530090_481542449689343805_o.jpg
ORGANIZER;CN="Fata Aquana":MAILTO:info@fata-aquana.nl
END:VEVENT
BEGIN:VEVENT
DTSTART;TZID=Europe/Amsterdam:20250420T110000
DTEND;TZID=Europe/Amsterdam:20250420T170000
DTSTAMP:20260421T215905
CREATED:20250127T171005Z
LAST-MODIFIED:20250415T082143Z
UID:133979-1745146800-1745168400@www.fata-aquana.nl
SUMMARY:Paaseierenzoekduik
DESCRIPTION:Onder water eieren zoeken! Dat is weer eens wat anders dan tussen bomen en grassprieten!
URL:https://www.fata-aquana.nl/agenda/paaseierenzoekduik-2/
CATEGORIES:Activiteiten,Feestdagen,Ontdek Je Stekje,PADI,Vrijduiken
ATTACH;FMTTYPE=image/jpeg:https://www.fata-aquana.nl/wp-content/uploads/paasei.jpeg
ORGANIZER;CN="Fata Aquana":MAILTO:info@fata-aquana.nl
END:VEVENT
BEGIN:VEVENT
DTSTART;VALUE=DATE:20250209
DTEND;VALUE=DATE:20250210
DTSTAMP:20260421T215905
CREATED:20250127T170728Z
LAST-MODIFIED:20250127T170728Z
UID:133975-1739059200-1739145599@www.fata-aquana.nl
SUMMARY:Ontdek Je Stekje Duikdag - TODI Belgie - VOL
DESCRIPTION:Voor deze OJS gaan we NIET in Nederlands (koud) water duiken\, maar in Belgisch WARM water! Toch duiken in de winter\, maar niet in de kou ?\n\n\n \n\n\nTODI is een indoor snorkel- en duikcentrum waar bezoekers in optimale en veilige omstandigheden kunnen genieten van de wondere onderwaterwereld\, tussen kleurrijke tropische zoetwatervissen en levensechte decorelementen. \n\n\nEen gigantisch duikbassin van 10 meter diep en 36 meter doorsnee\, met meer dan 6.200.000 liter water en een temperatuur van 23° ! Er zijn meer dan 30 soorten vissen en in totaal zwemmen er meer dan 2200 rond! De vissen zwemmen\, schuilen en broeden tussen levensechte decorelementen zoals grotten\, een mijngang\, autowrakken en zelfs een onderwatercafé. Wie wil daar nou niet in duiken?\n\nJe kunt je opgeven met dit inschrijfformulier
URL:https://www.fata-aquana.nl/agenda/ontdek-je-stekje-todi-2024-2/
LOCATION:TODI\, be-MINE 1\, Beringe\, 3582\, België
CATEGORIES:Freediving,Ontdek Je Stekje,Trips en reisjes
ATTACH;FMTTYPE=image/jpeg:https://www.fata-aquana.nl/wp-content/uploads/2018/01/todi.jpg
ORGANIZER;CN="Fata Aquana":MAILTO:info@fata-aquana.nl
END:VEVENT
BEGIN:VEVENT
DTSTART;TZID=Europe/Amsterdam:20250205T193000
DTEND;TZID=Europe/Amsterdam:20250205T220000
DTSTAMP:20260421T215905
CREATED:20250127T172257Z
LAST-MODIFIED:20250127T172257Z
UID:133999-1738783800-1738792800@www.fata-aquana.nl
SUMMARY:Informatie-avond duikreis Noorwegen
DESCRIPTION:Op 5 februari ben je ’s avonds welkom bij ons voor een presentatie over de duik-\, wandel-. zeil- en freedive reis naar Noorwegen in de derde week van juli 2025. De inloop is om 19.00 uur\, even daarna start Michel met zijn verhaal over het schip\, het land en de duiken! Alvast even voor genieten? Op deze site kan je alvast alles lezen over deze reis!\nLaat je even weten of je erbij bent 5 februari?
URL:https://www.fata-aquana.nl/agenda/informatie-avond-noorwegen/
LOCATION:Fata\, Theems 31\, Den Haag
CATEGORIES:Ontdek Je Stekje,Trips en reisjes,Vrijduiken
ORGANIZER;CN="Fata Aquana":MAILTO:info@fata-aquana.nl
END:VEVENT
BEGIN:VEVENT
DTSTART;VALUE=DATE:20240921
DTEND;VALUE=DATE:20240923
DTSTAMP:20260421T215905
CREATED:20240501T160746Z
LAST-MODIFIED:20240501T160746Z
UID:131775-1726876800-1727049599@www.fata-aquana.nl
SUMMARY:Ontdek Je Stekje Duikdag - Weekend Luxemburg
DESCRIPTION:De volgende Ontdek Je Stekje is niet 1 dag\, maar 2 dagen! En dat is niet zo gek\, want we gaan hiervoor (helemaal) naar Luxemburg. Om precies te zijn naar Lultzhausen (waar we dineren\, overnachten en ontbijten) en vanwaar we gaan duiken in het Lac de la Haute Sure. \nMeer informatie kun je hier lezen!
URL:https://www.fata-aquana.nl/agenda/ontdek-je-stekje-luxemburg-2-2-2-2-3/
LOCATION:Luxemburg\, Lulzhausen
CATEGORIES:Ontdek Je Stekje,Trips en reisjes,Vrijduiken
ATTACH;FMTTYPE=image/jpeg:https://www.fata-aquana.nl/wp-content/uploads/2018/01/22496131_2050228198530090_481542449689343805_o.jpg
ORGANIZER;CN="Fata Aquana":MAILTO:info@fata-aquana.nl
END:VEVENT
BEGIN:VEVENT
DTSTART;TZID=Europe/Amsterdam:20240705T170000
DTEND;TZID=Europe/Amsterdam:20240705T203000
DTSTAMP:20260421T215905
CREATED:20240626T160716Z
LAST-MODIFIED:20240626T160716Z
UID:132081-1720198800-1720211400@www.fata-aquana.nl
SUMMARY:Wat je altijd al wilde weten over de Filippijnen (reis)
DESCRIPTION:Op 5 juli komen de eigenaren van Magic Resorts (Desiree en Arie) bij Fata langs om alles te vertellen over de Filippijnen reis van november dit jaar.\nZe zullen niet alleen foto’s en brochures bij zich hebben\, maar ook de nodige items om je helemaal in FIlippijnse sferen te wanen. Je kunt die avond alles  aan ze vragen en natuurlijk profiteren van de mooie groepsaanbieding die Fata van ze heeft gekregen! Ben jij er ook bij? \n  \n 
URL:https://www.fata-aquana.nl/agenda/wat-je-altijd-al-wilde-weten-over-de-filippijnen-reis/
LOCATION:Fata\, Theems 31\, Den Haag
CATEGORIES:Informatie,Ontdek Je Stekje,Trips en reisjes
ATTACH;FMTTYPE=image/jpeg:https://www.fata-aquana.nl/wp-content/uploads/1.jpg
ORGANIZER;CN="Fata Aquana":MAILTO:info@fata-aquana.nl
END:VEVENT
BEGIN:VEVENT
DTSTART;VALUE=DATE:20240622
DTEND;VALUE=DATE:20240624
DTSTAMP:20260421T215905
CREATED:20240501T160654Z
LAST-MODIFIED:20240501T160654Z
UID:131771-1719014400-1719187199@www.fata-aquana.nl
SUMMARY:Ontdek Je Stekje Duikdag - Weekend Luxemburg
DESCRIPTION:De volgende Ontdek Je Stekje is niet 1 dag\, maar 2 dagen! En dat is niet zo gek\, want we gaan hiervoor (helemaal) naar Luxemburg. Om precies te zijn naar Lultzhausen (waar we dineren\, overnachten en ontbijten) en vanwaar we gaan duiken in het Lac de la Haute Sure. \nMeer informatie kun je hier lezen!
URL:https://www.fata-aquana.nl/agenda/ontdek-je-stekje-luxemburg-2-2-2-2-2-2/
LOCATION:Luxemburg\, Lulzhausen
CATEGORIES:Ontdek Je Stekje,Trips en reisjes,Vrijduiken
ATTACH;FMTTYPE=image/jpeg:https://www.fata-aquana.nl/wp-content/uploads/2018/01/22496131_2050228198530090_481542449689343805_o.jpg
ORGANIZER;CN="Fata Aquana":MAILTO:info@fata-aquana.nl
END:VEVENT
BEGIN:VEVENT
DTSTART;VALUE=DATE:20240128
DTEND;VALUE=DATE:20240129
DTSTAMP:20260421T215905
CREATED:20231215T162657Z
LAST-MODIFIED:20240117T124738Z
UID:131011-1706400000-1706486399@www.fata-aquana.nl
SUMMARY:Ontdek Je Stekje Duikdag - TODI Belgie - VOL
DESCRIPTION:Voor deze OJS gaan we NIET in Nederlands (koud) water duiken\, maar in Belgisch WARM water! Toch duiken in de winter\, maar niet in de kou ?\n\n\n \n\n\nTODI is een indoor snorkel- en duikcentrum waar bezoekers in optimale en veilige omstandigheden kunnen genieten van de wondere onderwaterwereld\, tussen kleurrijke tropische zoetwatervissen en levensechte decorelementen. \n\n\nEen gigantisch duikbassin van 10 meter diep en 36 meter doorsnee\, met meer dan 6.200.000 liter water en een temperatuur van 23° ! Er zijn meer dan 30 soorten vissen en in totaal zwemmen er meer dan 2200 rond! De vissen zwemmen\, schuilen en broeden tussen levensechte decorelementen zoals grotten\, een mijngang\, autowrakken en zelfs een onderwatercafé. Wie wil daar nou niet in duiken?\n\nJe kunt je opgeven met dit inschrijfformulier
URL:https://www.fata-aquana.nl/agenda/ontdek-je-stekje-todi-2024/
LOCATION:TODI\, be-MINE 1\, Beringe\, 3582\, België
CATEGORIES:Freediving,Ontdek Je Stekje,Trips en reisjes
ATTACH;FMTTYPE=image/jpeg:https://www.fata-aquana.nl/wp-content/uploads/2018/01/todi.jpg
ORGANIZER;CN="Fata Aquana":MAILTO:info@fata-aquana.nl
END:VEVENT
BEGIN:VEVENT
DTSTART;TZID=Europe/Amsterdam:20240121T113000
DTEND;TZID=Europe/Amsterdam:20240121T150000
DTSTAMP:20260421T215905
CREATED:20191105T142128Z
LAST-MODIFIED:20231202T155849Z
UID:122894-1705836600-1705849200@www.fata-aquana.nl
SUMMARY:Wintergelukkignieuwjaarensnertduik!
DESCRIPTION:Iets om alvast in je agenda te zetten. \nAls je de Kerstdagen hebt overleefd\, genoeg champagne hebt gedronken op Oudjaarsdag en geen knallen meer kan horen\, is het tijd om het nieuwe jaar en de winter te vieren met je hobby!\nEen leuke duik maken dus met al onze echte duik-bikkels!\nNa de duik hebben we dan een speciaal Wintergelukkignieuwjaarsnertduiklogboekblaadje\, een heerlijke kom snert\, gluhwein en een beker warme chocomel (met natuurlijk ook lekkere hapjes) voor je klaarstaan. Deze duik zal op zondag 21 januari 2024 om 11.30 uur plaatsvinden aan en in de Zevenhuizerplas. \n\nLaat wel even weten of je ook van de partij bent zodat we genoeg lekkerheden kunnen inslaan. Je kunt je aanmelden via dit Inschrijfformulier \n\nEnne…. mocht je dat duiken toch niet helemaal voor elkaar krijgen die dag\, je mag ook wel komen om de andere duikers aan te moedigen (en voor de snert en chocomelk)!
URL:https://www.fata-aquana.nl/agenda/snertduik2024/
LOCATION:Zevenhuizer Plas\, Middelweg\, Zevenhuizen\, 2761\, Nederland
CATEGORIES:Feestdagen,Ontdek Je Stekje,Vrijduiken
ATTACH;FMTTYPE=image/jpeg:https://www.fata-aquana.nl/wp-content/uploads/1321257_97478179-e1579273296900.jpg
ORGANIZER;CN="Fata Aquana":MAILTO:info@fata-aquana.nl
END:VEVENT
BEGIN:VEVENT
DTSTART;VALUE=DATE:20230829
DTEND;VALUE=DATE:20230906
DTSTAMP:20260421T215905
CREATED:20230224T111726Z
LAST-MODIFIED:20230224T112657Z
UID:130217-1693267200-1693958399@www.fata-aquana.nl
SUMMARY:Reis Egypte 2023
DESCRIPTION:Midden in de woestijn\, maar aan het strand en water van de Rode Zee ligt Abud Dabbab Diving Lodge. Nergens anders vind je zo een rustige en mooie duik- en freedive locatie!\nOntdek hier alles over de reis naar Egypte
URL:https://www.fata-aquana.nl/agenda/reis-egypte-2023/
LOCATION:Egypte\, Abu Dabab\, Abu Dabbab\, Egypte
CATEGORIES:Activiteiten,Ontdek Je Stekje,Trips en reisjes
ATTACH;FMTTYPE=image/jpeg:https://www.fata-aquana.nl/wp-content/uploads/330581551_520660293532506_843306225140013108_n.jpeg
ORGANIZER;CN="Fata Aquana":MAILTO:info@fata-aquana.nl
END:VEVENT
BEGIN:VEVENT
DTSTART;VALUE=DATE:20230916
DTEND;VALUE=DATE:20230918
DTSTAMP:20260421T215905
CREATED:20230508T071936Z
LAST-MODIFIED:20230912T112135Z
UID:130429-1694822400-1694995199@www.fata-aquana.nl
SUMMARY:Ontdek Je Stekje Duikdag - Weekend Luxemburg
DESCRIPTION:De volgende Ontdek Je Stekje is niet 1 dag\, maar 2 dagen! En dat is niet zo gek\, want we gaan hiervoor (helemaal) naar Luxemburg. Om precies te zijn naar Lultzhausen (waar we dineren\, overnachten en ontbijten) en vanwaar we gaan duiken in het Lac de la Haute Sure. \nMeer informatie kun je hier lezen!
URL:https://www.fata-aquana.nl/agenda/ontdek-je-stekje-luxemburg-2-2-2-2-2/
LOCATION:Luxemburg\, Lulzhausen
CATEGORIES:Ontdek Je Stekje,Trips en reisjes,Vrijduiken
ATTACH;FMTTYPE=image/jpeg:https://www.fata-aquana.nl/wp-content/uploads/2018/01/22496131_2050228198530090_481542449689343805_o.jpg
ORGANIZER;CN="Fata Aquana":MAILTO:info@fata-aquana.nl
END:VEVENT
BEGIN:VEVENT
DTSTART;VALUE=DATE:20230603
DTEND;VALUE=DATE:20230605
DTSTAMP:20260421T215905
CREATED:20230508T071839Z
LAST-MODIFIED:20230508T071839Z
UID:130425-1685750400-1685923199@www.fata-aquana.nl
SUMMARY:Ontdek Je Stekje Duikdag - Weekend Luxemburg
DESCRIPTION:De volgende Ontdek Je Stekje is niet 1 dag\, maar 2 dagen! En dat is niet zo gek\, want we gaan hiervoor (helemaal) naar Luxemburg. Om precies te zijn naar Lultzhausen (waar we dineren\, overnachten en ontbijten) en vanwaar we gaan duiken in het Lac de la Haute Sure. \nMeer informatie kun je hier lezen!
URL:https://www.fata-aquana.nl/agenda/ontdek-je-stekje-luxemburg-2-2-2-2/
LOCATION:Luxemburg\, Lulzhausen
CATEGORIES:Ontdek Je Stekje,Trips en reisjes,Vrijduiken
ATTACH;FMTTYPE=image/jpeg:https://www.fata-aquana.nl/wp-content/uploads/2018/01/22496131_2050228198530090_481542449689343805_o.jpg
ORGANIZER;CN="Fata Aquana":MAILTO:info@fata-aquana.nl
END:VEVENT
END:VCALENDAR