BEGIN:VCALENDAR
VERSION:2.0
PRODID:-//Fata Aquana - ECPv6.15.20//NONSGML v1.0//EN
CALSCALE:GREGORIAN
METHOD:PUBLISH
X-ORIGINAL-URL:https://www.fata-aquana.nl
X-WR-CALDESC:Evenementen voor Fata Aquana
REFRESH-INTERVAL;VALUE=DURATION:PT1H
X-Robots-Tag:noindex
X-PUBLISHED-TTL:PT1H
BEGIN:VTIMEZONE
TZID:Europe/Amsterdam
BEGIN:DAYLIGHT
TZOFFSETFROM:+0100
TZOFFSETTO:+0200
TZNAME:CEST
DTSTART:20240331T010000
END:DAYLIGHT
BEGIN:STANDARD
TZOFFSETFROM:+0200
TZOFFSETTO:+0100
TZNAME:CET
DTSTART:20241027T010000
END:STANDARD
BEGIN:DAYLIGHT
TZOFFSETFROM:+0100
TZOFFSETTO:+0200
TZNAME:CEST
DTSTART:20250330T010000
END:DAYLIGHT
BEGIN:STANDARD
TZOFFSETFROM:+0200
TZOFFSETTO:+0100
TZNAME:CET
DTSTART:20251026T010000
END:STANDARD
BEGIN:DAYLIGHT
TZOFFSETFROM:+0100
TZOFFSETTO:+0200
TZNAME:CEST
DTSTART:20260329T010000
END:DAYLIGHT
BEGIN:STANDARD
TZOFFSETFROM:+0200
TZOFFSETTO:+0100
TZNAME:CET
DTSTART:20261025T010000
END:STANDARD
END:VTIMEZONE
BEGIN:VEVENT
DTSTART;TZID=Europe/Amsterdam:20250228T193000
DTEND;TZID=Europe/Amsterdam:20250228T193000
DTSTAMP:20260421T050103
CREATED:20250127T172613Z
LAST-MODIFIED:20250127T172613Z
UID:134003-1740771000-1740771000@www.fata-aquana.nl
SUMMARY:Workshop Mermaid/Merman Diving
DESCRIPTION:Een unieke ervaring meemaken? Dat kan met de workshop Mermaid/Merman diving. \nLees hier meer!
URL:https://www.fata-aquana.nl/agenda/workshop-mermaid-merman-diving-2-2-2/
CATEGORIES:Activiteiten,Cursus,PADI
ATTACH;FMTTYPE=image/jpeg:https://www.fata-aquana.nl/wp-content/uploads/th.jpeg
END:VEVENT
BEGIN:VEVENT
DTSTART;TZID=Europe/Amsterdam:20250228T193000
DTEND;TZID=Europe/Amsterdam:20250228T193000
DTSTAMP:20260421T050103
CREATED:20250228T171425Z
LAST-MODIFIED:20250220T194648Z
UID:133991-1740771000-1740771000@www.fata-aquana.nl
SUMMARY:Workshop Mermaid/Merman Diving
DESCRIPTION:Een unieke ervaring meemaken? Dat kan met de workshop Mermaid/Merman diving. \nLees hier meer!
URL:https://www.fata-aquana.nl/agenda/workshop-mermaid-merman-diving-2-2/
CATEGORIES:Activiteiten,Cursus,PADI
ATTACH;FMTTYPE=image/jpeg:https://www.fata-aquana.nl/wp-content/uploads/th.jpeg
END:VEVENT
BEGIN:VEVENT
DTSTART;TZID=Europe/Amsterdam:20250307T193000
DTEND;TZID=Europe/Amsterdam:20250307T230000
DTSTAMP:20260421T050103
CREATED:20250127T172728Z
LAST-MODIFIED:20250127T172728Z
UID:134007-1741375800-1741388400@www.fata-aquana.nl
SUMMARY:Start PADI Open Water Cursus
DESCRIPTION:De PADI Open Water Cursus is je eerste stap om deze wondere wereld onder water mee te beleven en alle basisvaardigheden te leren om lekker te kunnen duiken.\nMeer informatie over deze cursus kun je hier vinden\, maar je kunt ons uiteraard ook even bellen: 070-4190129.\nOm deel te nemen kun je het  Inschrijfformulier invullen.
URL:https://www.fata-aquana.nl/agenda/start-padi-open-water-cursus-8-2-4-2-3-2-2-2-2-2/
LOCATION:Fata\, Theems 31\, Den Haag
CATEGORIES:Cursus,PADI
ATTACH;FMTTYPE=image/jpeg:https://www.fata-aquana.nl/wp-content/uploads/2017/02/opleidingopenwater-e1510847282532.jpg
ORGANIZER;CN="Fata Aquana":MAILTO:info@fata-aquana.nl
END:VEVENT
BEGIN:VEVENT
DTSTART;TZID=Europe/Amsterdam:20250314T193000
DTEND;TZID=Europe/Amsterdam:20250314T193000
DTSTAMP:20260421T050103
CREATED:20250127T171754Z
LAST-MODIFIED:20250127T172413Z
UID:133995-1741980600-1741980600@www.fata-aquana.nl
SUMMARY:Workshop Mermaid/Merman Diving
DESCRIPTION:Een unieke ervaring meemaken? Dat kan met de workshop Mermaid/Merman diving. \nLees hier meer!
URL:https://www.fata-aquana.nl/agenda/workshop-mermaid-merman-diving-2-3/
CATEGORIES:Activiteiten
ATTACH;FMTTYPE=image/jpeg:https://www.fata-aquana.nl/wp-content/uploads/th.jpeg
END:VEVENT
BEGIN:VEVENT
DTSTART;VALUE=DATE:20250329
DTEND;VALUE=DATE:20250330
DTSTAMP:20260421T050103
CREATED:20250320T180706Z
LAST-MODIFIED:20250320T180706Z
UID:134333-1743206400-1743292799@www.fata-aquana.nl
SUMMARY:Zomertijd - De klok vooruit
DESCRIPTION:Vanavond gaat de klok een uurtje vooruit. Een uurtje minder slapen\, maar wel: een uurtje langer licht!
URL:https://www.fata-aquana.nl/agenda/zomertijd-de-klok-vooruit/
CATEGORIES:Informatie
ATTACH;FMTTYPE=image/avif:https://www.fata-aquana.nl/wp-content/uploads/klok.avif
END:VEVENT
BEGIN:VEVENT
DTSTART;TZID=Europe/Amsterdam:20250420T110000
DTEND;TZID=Europe/Amsterdam:20250420T170000
DTSTAMP:20260421T050103
CREATED:20250127T171005Z
LAST-MODIFIED:20250415T082143Z
UID:133979-1745146800-1745168400@www.fata-aquana.nl
SUMMARY:Paaseierenzoekduik
DESCRIPTION:Onder water eieren zoeken! Dat is weer eens wat anders dan tussen bomen en grassprieten!
URL:https://www.fata-aquana.nl/agenda/paaseierenzoekduik-2/
CATEGORIES:Activiteiten,Feestdagen,Ontdek Je Stekje,PADI,Vrijduiken
ATTACH;FMTTYPE=image/jpeg:https://www.fata-aquana.nl/wp-content/uploads/paasei.jpeg
ORGANIZER;CN="Fata Aquana":MAILTO:info@fata-aquana.nl
END:VEVENT
BEGIN:VEVENT
DTSTART;VALUE=DATE:20250426
DTEND;VALUE=DATE:20250427
DTSTAMP:20260421T050103
CREATED:20250127T171150Z
LAST-MODIFIED:20250423T125828Z
UID:133983-1745625600-1745711999@www.fata-aquana.nl
SUMMARY:Koningsdag - Fata gesloten
DESCRIPTION:Koningsdag! Maak er een geweldige\, feestelijke dag van!
URL:https://www.fata-aquana.nl/agenda/koningsdag-fata-gesloten-2-2-2-2/
LOCATION:Nederland\, Nederland
CATEGORIES:Feestdagen
ATTACH;FMTTYPE=image/jpeg:https://www.fata-aquana.nl/wp-content/uploads/feestkoningsdag.jpg
ORGANIZER;CN="Fata Aquana":MAILTO:info@fata-aquana.nl
END:VEVENT
BEGIN:VEVENT
DTSTART;VALUE=DATE:20250531
DTEND;VALUE=DATE:20250602
DTSTAMP:20260421T050103
CREATED:20250214T123450Z
LAST-MODIFIED:20250507T113733Z
UID:134073-1748649600-1748822399@www.fata-aquana.nl
SUMMARY:Ontdek Je Stekje Duikdag - Weekend Luxemburg
DESCRIPTION:De volgende Ontdek Je Stekje is niet 1 dag\, maar 2 dagen! En dat is niet zo gek\, want we gaan hiervoor (helemaal) naar Luxemburg. Om precies te zijn naar Lultzhausen (waar we dineren\, overnachten en ontbijten) en vanwaar we gaan duiken in het Lac de la Haute Sure. \nMeer informatie kun je hier lezen!
URL:https://www.fata-aquana.nl/agenda/ontdek-je-stekje-luxemburg-2-2-2-2-3-2/
LOCATION:Luxemburg\, Lulzhausen
CATEGORIES:Ontdek Je Stekje,Trips en reisjes,Vrijduiken
ATTACH;FMTTYPE=image/jpeg:https://www.fata-aquana.nl/wp-content/uploads/2018/01/22496131_2050228198530090_481542449689343805_o.jpg
ORGANIZER;CN="Fata Aquana":MAILTO:info@fata-aquana.nl
END:VEVENT
BEGIN:VEVENT
DTSTART;TZID=Europe/Amsterdam:20250621T183000
DTEND;TZID=Europe/Amsterdam:20250621T223000
DTSTAMP:20260421T050103
CREATED:20220122T152453Z
LAST-MODIFIED:20250614T142338Z
UID:124937-1750530600-1750545000@www.fata-aquana.nl
SUMMARY:Zonnewendeduik
DESCRIPTION:De langste dag van het jaar gaat met een sprookjesachtige schemering over in de kortste nacht van het jaar. \nDe viering van midzomernacht werd in vroegere tijden gelinkt aan de zomerzonnewende. De mensen geloofden dat planten op midzomer geneeskrachtige en magische krachten hebben en hiervoor plukten ze op deze nacht. Vreugdevuren werden ontstoken om zich te beschermen tegen de duistere krachten waarvan werd geloofd dat ze vrij spel hadden vanaf het moment waarop het aantal uren daglicht opnieuw afnam.\nIn de zevende eeuw waarschuwde Sint-Eligius de inwoners van Vlaanderen\, die nog maar pas waren bekeerd tot het christelijke geloof\, voor het heidense zonnewendefeest. Christenen mochten niet deelnemen aan deze feestelijkheden. Later werd dit feest\, net als de winterzonnewende op 24 december (het kerstfeest)\, verchristelijkt tot de feestdag ter ere van de geboorte van Johannes de Doper op 24 juni. \nTijd voor een leuke themaduik dus en wel  op zaterdagavond 21 juni!\nOp zaterdag 21 juni gaat de zon onder om 22.08. Als we een half uurtje eerder onder water gaan en NA 22.08 weer boven komen\, kunnen we zeggen bijna tijdens de zomerzonnewende gedoken te hebben!\nNatuurlijk zorgen wij weer voor passende logboekblaadjes en we kunnen gezellig gaan bbq-en voor de duik! Als iedereen wat meeneemt\, wordt het nog een festijn! Laat wel even weten of je ook van de partij bent zodat we genoeg lekkere dingen kunnen inslaan. \nJe kunt je aanmelden  via dit Inschrijfformulier \n 
URL:https://www.fata-aquana.nl/agenda/midzomernachtsduik/
LOCATION:Toolenburger Plas\, Hoofddorp\, 2133 MJ
CATEGORIES:Feestdagen,Ontdek Je Stekje,Vrijduiken
ATTACH;FMTTYPE=image/jpeg:https://www.fata-aquana.nl/wp-content/uploads/DSCF8604.jpeg
ORGANIZER;CN="Fata Aquana":MAILTO:info@fata-aquana.nl
END:VEVENT
BEGIN:VEVENT
DTSTART;VALUE=DATE:20250721
DTEND;VALUE=DATE:20250729
DTSTAMP:20260421T050103
CREATED:20250214T124920Z
LAST-MODIFIED:20250214T124920Z
UID:134083-1753056000-1753747199@www.fata-aquana.nl
SUMMARY:Duikreis Noorwegen
DESCRIPTION:21 juli tot en met 27 juli gaan we naar Noorwegen: duiken\, zeilen\, wandelen\, lekker eten en nog meer duiken.\nOp deze site kan je alvast alles lezen over deze reis!\nJe kunt je voor deze reis inschrijven door te bellen\, mailen of middels dit Inschrijfformulier
URL:https://www.fata-aquana.nl/agenda/duikreis-noorwegen/
LOCATION:Fata\, Theems 31\, Den Haag
CATEGORIES:Ontdek Je Stekje,Trips en reisjes,Vrijduiken
ATTACH;FMTTYPE=image/png:https://www.fata-aquana.nl/wp-content/uploads/Scherm­afbeelding-2025-02-14-om-13.46.30.png
ORGANIZER;CN="Fata Aquana":MAILTO:info@fata-aquana.nl
END:VEVENT
BEGIN:VEVENT
DTSTART;VALUE=DATE:20250823
DTEND;VALUE=DATE:20250825
DTSTAMP:20260421T050103
CREATED:20250214T123541Z
LAST-MODIFIED:20250507T113638Z
UID:134071-1755907200-1756079999@www.fata-aquana.nl
SUMMARY:Ontdek Je Stekje Duikdag - Weekend Luxemburg
DESCRIPTION:De volgende Ontdek Je Stekje is niet 1 dag\, maar 2 dagen! En dat is niet zo gek\, want we gaan hiervoor (helemaal) naar Luxemburg. Om precies te zijn naar Lultzhausen (waar we dineren\, overnachten en ontbijten) en vanwaar we gaan duiken in het Lac de la Haute Sure. \nMeer informatie kun je hier lezen!
URL:https://www.fata-aquana.nl/agenda/ontdek-je-stekje-luxemburg-2-2-2-2-3-3/
LOCATION:Luxemburg\, Lulzhausen
CATEGORIES:Ontdek Je Stekje,Trips en reisjes,Vrijduiken
ATTACH;FMTTYPE=image/jpeg:https://www.fata-aquana.nl/wp-content/uploads/2018/01/22496131_2050228198530090_481542449689343805_o.jpg
ORGANIZER;CN="Fata Aquana":MAILTO:info@fata-aquana.nl
END:VEVENT
END:VCALENDAR