BEGIN:VCALENDAR
VERSION:2.0
PRODID:-//Fata Aquana - ECPv6.15.20//NONSGML v1.0//EN
CALSCALE:GREGORIAN
METHOD:PUBLISH
X-WR-CALNAME:Fata Aquana
X-ORIGINAL-URL:https://www.fata-aquana.nl
X-WR-CALDESC:Evenementen voor Fata Aquana
REFRESH-INTERVAL;VALUE=DURATION:PT1H
X-Robots-Tag:noindex
X-PUBLISHED-TTL:PT1H
BEGIN:VTIMEZONE
TZID:Europe/Amsterdam
BEGIN:DAYLIGHT
TZOFFSETFROM:+0100
TZOFFSETTO:+0200
TZNAME:CEST
DTSTART:20220327T010000
END:DAYLIGHT
BEGIN:STANDARD
TZOFFSETFROM:+0200
TZOFFSETTO:+0100
TZNAME:CET
DTSTART:20221030T010000
END:STANDARD
BEGIN:DAYLIGHT
TZOFFSETFROM:+0100
TZOFFSETTO:+0200
TZNAME:CEST
DTSTART:20230326T010000
END:DAYLIGHT
BEGIN:STANDARD
TZOFFSETFROM:+0200
TZOFFSETTO:+0100
TZNAME:CET
DTSTART:20231029T010000
END:STANDARD
BEGIN:DAYLIGHT
TZOFFSETFROM:+0100
TZOFFSETTO:+0200
TZNAME:CEST
DTSTART:20240331T010000
END:DAYLIGHT
BEGIN:STANDARD
TZOFFSETFROM:+0200
TZOFFSETTO:+0100
TZNAME:CET
DTSTART:20241027T010000
END:STANDARD
BEGIN:DAYLIGHT
TZOFFSETFROM:+0100
TZOFFSETTO:+0200
TZNAME:CEST
DTSTART:20250330T010000
END:DAYLIGHT
BEGIN:STANDARD
TZOFFSETFROM:+0200
TZOFFSETTO:+0100
TZNAME:CET
DTSTART:20251026T010000
END:STANDARD
BEGIN:DAYLIGHT
TZOFFSETFROM:+0100
TZOFFSETTO:+0200
TZNAME:CEST
DTSTART:20260329T010000
END:DAYLIGHT
BEGIN:STANDARD
TZOFFSETFROM:+0200
TZOFFSETTO:+0100
TZNAME:CET
DTSTART:20261025T010000
END:STANDARD
END:VTIMEZONE
BEGIN:VEVENT
DTSTART;TZID=Europe/Amsterdam:20240315T193000
DTEND;TZID=Europe/Amsterdam:20240315T223000
DTSTAMP:20260421T070323
CREATED:20240221T142307Z
LAST-MODIFIED:20240221T142527Z
UID:131421-1710531000-1710541800@www.fata-aquana.nl
SUMMARY:Workshop Mermaid/Merman Diving
DESCRIPTION:Vrijdag 15 maart een unieke ervaring meemaken? Dat kan met de workshop Mermaid/Merman diving. \nLees hier meer!
URL:https://www.fata-aquana.nl/agenda/workshop-mermaid-merman-diving/
CATEGORIES:Activiteiten
ATTACH;FMTTYPE=image/jpeg:https://www.fata-aquana.nl/wp-content/uploads/th.jpeg
END:VEVENT
BEGIN:VEVENT
DTSTART;VALUE=DATE:20240128
DTEND;VALUE=DATE:20240129
DTSTAMP:20260421T070323
CREATED:20231215T162657Z
LAST-MODIFIED:20240117T124738Z
UID:131011-1706400000-1706486399@www.fata-aquana.nl
SUMMARY:Ontdek Je Stekje Duikdag - TODI Belgie - VOL
DESCRIPTION:Voor deze OJS gaan we NIET in Nederlands (koud) water duiken\, maar in Belgisch WARM water! Toch duiken in de winter\, maar niet in de kou ?\n\n\n \n\n\nTODI is een indoor snorkel- en duikcentrum waar bezoekers in optimale en veilige omstandigheden kunnen genieten van de wondere onderwaterwereld\, tussen kleurrijke tropische zoetwatervissen en levensechte decorelementen. \n\n\nEen gigantisch duikbassin van 10 meter diep en 36 meter doorsnee\, met meer dan 6.200.000 liter water en een temperatuur van 23° ! Er zijn meer dan 30 soorten vissen en in totaal zwemmen er meer dan 2200 rond! De vissen zwemmen\, schuilen en broeden tussen levensechte decorelementen zoals grotten\, een mijngang\, autowrakken en zelfs een onderwatercafé. Wie wil daar nou niet in duiken?\n\nJe kunt je opgeven met dit inschrijfformulier
URL:https://www.fata-aquana.nl/agenda/ontdek-je-stekje-todi-2024/
LOCATION:TODI\, be-MINE 1\, Beringe\, 3582\, België
CATEGORIES:Freediving,Ontdek Je Stekje,Trips en reisjes
ATTACH;FMTTYPE=image/jpeg:https://www.fata-aquana.nl/wp-content/uploads/2018/01/todi.jpg
ORGANIZER;CN="Fata Aquana":MAILTO:info@fata-aquana.nl
END:VEVENT
BEGIN:VEVENT
DTSTART;TZID=Europe/Amsterdam:20240121T113000
DTEND;TZID=Europe/Amsterdam:20240121T150000
DTSTAMP:20260421T070323
CREATED:20191105T142128Z
LAST-MODIFIED:20231202T155849Z
UID:122894-1705836600-1705849200@www.fata-aquana.nl
SUMMARY:Wintergelukkignieuwjaarensnertduik!
DESCRIPTION:Iets om alvast in je agenda te zetten. \nAls je de Kerstdagen hebt overleefd\, genoeg champagne hebt gedronken op Oudjaarsdag en geen knallen meer kan horen\, is het tijd om het nieuwe jaar en de winter te vieren met je hobby!\nEen leuke duik maken dus met al onze echte duik-bikkels!\nNa de duik hebben we dan een speciaal Wintergelukkignieuwjaarsnertduiklogboekblaadje\, een heerlijke kom snert\, gluhwein en een beker warme chocomel (met natuurlijk ook lekkere hapjes) voor je klaarstaan. Deze duik zal op zondag 21 januari 2024 om 11.30 uur plaatsvinden aan en in de Zevenhuizerplas. \n\nLaat wel even weten of je ook van de partij bent zodat we genoeg lekkerheden kunnen inslaan. Je kunt je aanmelden via dit Inschrijfformulier \n\nEnne…. mocht je dat duiken toch niet helemaal voor elkaar krijgen die dag\, je mag ook wel komen om de andere duikers aan te moedigen (en voor de snert en chocomelk)!
URL:https://www.fata-aquana.nl/agenda/snertduik2024/
LOCATION:Zevenhuizer Plas\, Middelweg\, Zevenhuizen\, 2761\, Nederland
CATEGORIES:Feestdagen,Ontdek Je Stekje,Vrijduiken
ATTACH;FMTTYPE=image/jpeg:https://www.fata-aquana.nl/wp-content/uploads/1321257_97478179-e1579273296900.jpg
ORGANIZER;CN="Fata Aquana":MAILTO:info@fata-aquana.nl
END:VEVENT
BEGIN:VEVENT
DTSTART;VALUE=DATE:20241231
DTEND;VALUE=DATE:20250103
DTSTAMP:20260421T070323
CREATED:20241123T123146Z
LAST-MODIFIED:20241123T131616Z
UID:133055-1735603200-1735862399@www.fata-aquana.nl
SUMMARY:Oud en Nieuw - Fata gesloten
DESCRIPTION:Oud en Nieuw! Geniet van je vrije dagen\, kijk uit met Vuurwerk. \n 
URL:https://www.fata-aquana.nl/agenda/oudennieuw-fata-gesloten-2024/
LOCATION:Nederland\, Nederland
CATEGORIES:Feestdagen,Informatie
ATTACH;FMTTYPE=image/jpeg:https://www.fata-aquana.nl/wp-content/uploads/nieuwjaar-e1576332451882.jpg
ORGANIZER;CN="Fata Aquana":MAILTO:info@fata-aquana.nl
END:VEVENT
BEGIN:VEVENT
DTSTART;TZID=Europe/Amsterdam:20231231T000000
DTEND;TZID=Europe/Amsterdam:20240105T120000
DTSTAMP:20260421T070323
CREATED:20231205T155718Z
LAST-MODIFIED:20231205T155718Z
UID:130971-1703980800-1704456000@www.fata-aquana.nl
SUMMARY:Oud en Nieuw - Fata gesloten
DESCRIPTION:Oud en Nieuw! Geniet van je vrije dagen\, kijk uit met Vuurwerk. \n 
URL:https://www.fata-aquana.nl/agenda/oudennieuw-fata-gesloten-2023/
LOCATION:Nederland\, Nederland
CATEGORIES:Feestdagen,Informatie
ORGANIZER;CN="Fata Aquana":MAILTO:info@fata-aquana.nl
END:VEVENT
BEGIN:VEVENT
DTSTART;VALUE=DATE:20231221
DTEND;VALUE=DATE:20231231
DTSTAMP:20260421T070323
CREATED:20231205T155545Z
LAST-MODIFIED:20231205T155545Z
UID:130967-1703116800-1703980799@www.fata-aquana.nl
SUMMARY:Kerstmis - Fata gesloten
DESCRIPTION:Kerstmis! Geniet van je vrije dagen\, maak er iets leuks en gezelligs van! \nEn weet je niet meer helemaal hoe het zat? Op deze dag herdenken we de geboorte van Jezus Christus.
URL:https://www.fata-aquana.nl/agenda/kerstmis-fata-gesloten-2023/
LOCATION:Nederland\, Nederland
CATEGORIES:Feestdagen,Informatie
ATTACH;FMTTYPE=image/jpeg:https://www.fata-aquana.nl/wp-content/uploads/kerstmarkt-e1606480300871.jpeg
END:VEVENT
BEGIN:VEVENT
DTSTART;VALUE=DATE:20230829
DTEND;VALUE=DATE:20230906
DTSTAMP:20260421T070323
CREATED:20230224T111726Z
LAST-MODIFIED:20230224T112657Z
UID:130217-1693267200-1693958399@www.fata-aquana.nl
SUMMARY:Reis Egypte 2023
DESCRIPTION:Midden in de woestijn\, maar aan het strand en water van de Rode Zee ligt Abud Dabbab Diving Lodge. Nergens anders vind je zo een rustige en mooie duik- en freedive locatie!\nOntdek hier alles over de reis naar Egypte
URL:https://www.fata-aquana.nl/agenda/reis-egypte-2023/
LOCATION:Egypte\, Abu Dabab\, Abu Dabbab\, Egypte
CATEGORIES:Activiteiten,Ontdek Je Stekje,Trips en reisjes
ATTACH;FMTTYPE=image/jpeg:https://www.fata-aquana.nl/wp-content/uploads/330581551_520660293532506_843306225140013108_n.jpeg
ORGANIZER;CN="Fata Aquana":MAILTO:info@fata-aquana.nl
END:VEVENT
BEGIN:VEVENT
DTSTART;VALUE=DATE:20231019
DTEND;VALUE=DATE:20231102
DTSTAMP:20260421T070323
CREATED:20230203T190528Z
LAST-MODIFIED:20230203T190631Z
UID:130157-1697673600-1698883199@www.fata-aquana.nl
SUMMARY:Reis Filippijnen
DESCRIPTION:Prachtige koraaltuinen\, steile wanden\,16 kilometer ongerepte riffen en een ongekende critter- en nudibranch-scene: welkom in Anda\, de Filippijnen!\nOntdek hier alles over de reis naar de Filippijnen
URL:https://www.fata-aquana.nl/agenda/reis-filippijnen/
LOCATION:Filippijnen\, Anda\, Filipijnen
CATEGORIES:Activiteiten,Trips en reisjes
ATTACH;FMTTYPE=image/jpeg:https://www.fata-aquana.nl/wp-content/uploads/1.jpg
ORGANIZER;CN="Fata Aquana":MAILTO:info@fata-aquana.nl
END:VEVENT
BEGIN:VEVENT
DTSTART;VALUE=DATE:20230916
DTEND;VALUE=DATE:20230918
DTSTAMP:20260421T070323
CREATED:20230508T071936Z
LAST-MODIFIED:20230912T112135Z
UID:130429-1694822400-1694995199@www.fata-aquana.nl
SUMMARY:Ontdek Je Stekje Duikdag - Weekend Luxemburg
DESCRIPTION:De volgende Ontdek Je Stekje is niet 1 dag\, maar 2 dagen! En dat is niet zo gek\, want we gaan hiervoor (helemaal) naar Luxemburg. Om precies te zijn naar Lultzhausen (waar we dineren\, overnachten en ontbijten) en vanwaar we gaan duiken in het Lac de la Haute Sure. \nMeer informatie kun je hier lezen!
URL:https://www.fata-aquana.nl/agenda/ontdek-je-stekje-luxemburg-2-2-2-2-2/
LOCATION:Luxemburg\, Lulzhausen
CATEGORIES:Ontdek Je Stekje,Trips en reisjes,Vrijduiken
ATTACH;FMTTYPE=image/jpeg:https://www.fata-aquana.nl/wp-content/uploads/2018/01/22496131_2050228198530090_481542449689343805_o.jpg
ORGANIZER;CN="Fata Aquana":MAILTO:info@fata-aquana.nl
END:VEVENT
BEGIN:VEVENT
DTSTART;TZID=Europe/Amsterdam:20230825T193000
DTEND;TZID=Europe/Amsterdam:20230825T193000
DTSTAMP:20260421T070323
CREATED:20230616T115046Z
LAST-MODIFIED:20230616T115046Z
UID:130531-1692991800-1692991800@www.fata-aquana.nl
SUMMARY:Start PADI Open Water Cursus
DESCRIPTION:De PADI Open Water Cursus is je eerste stap om deze wondere wereld onder water mee te beleven en alle basisvaardigheden te leren om lekker te kunnen duiken.\nOm deel te nemen kun je het  Inschrijfformulier invullen.
URL:https://www.fata-aquana.nl/agenda/start-padi-open-water-cursus-8-2-4-2-3-2/
LOCATION:Fata\, Theems 31\, Den Haag
CATEGORIES:Cursus,PADI
ATTACH;FMTTYPE=image/jpeg:https://www.fata-aquana.nl/wp-content/uploads/2017/02/opleidingopenwater-e1510847282532.jpg
ORGANIZER;CN="Fata Aquana":MAILTO:info@fata-aquana.nl
END:VEVENT
BEGIN:VEVENT
DTSTART;VALUE=DATE:20241122
DTEND;VALUE=DATE:20241123
DTSTAMP:20260421T070323
CREATED:20230708T104552Z
LAST-MODIFIED:20240221T142047Z
UID:130435-1732233600-1732319999@www.fata-aquana.nl
SUMMARY:Zwembad gesloten - 22 november
DESCRIPTION:Vanwege het NK Zwemmen Voor Masters zijn er vrijdag 22 november geen zwembadlessen
URL:https://www.fata-aquana.nl/agenda/zwembad-gesloten-3/
LOCATION:Fata\, Theems 31\, Den Haag
CATEGORIES:Informatie
ATTACH;FMTTYPE=image/png:https://www.fata-aquana.nl/wp-content/uploads/2018/01/geslotenzwart.png
ORGANIZER;CN="Fata Aquana":MAILTO:info@fata-aquana.nl
END:VEVENT
BEGIN:VEVENT
DTSTART;VALUE=DATE:20230603
DTEND;VALUE=DATE:20230605
DTSTAMP:20260421T070323
CREATED:20230508T071839Z
LAST-MODIFIED:20230508T071839Z
UID:130425-1685750400-1685923199@www.fata-aquana.nl
SUMMARY:Ontdek Je Stekje Duikdag - Weekend Luxemburg
DESCRIPTION:De volgende Ontdek Je Stekje is niet 1 dag\, maar 2 dagen! En dat is niet zo gek\, want we gaan hiervoor (helemaal) naar Luxemburg. Om precies te zijn naar Lultzhausen (waar we dineren\, overnachten en ontbijten) en vanwaar we gaan duiken in het Lac de la Haute Sure. \nMeer informatie kun je hier lezen!
URL:https://www.fata-aquana.nl/agenda/ontdek-je-stekje-luxemburg-2-2-2-2/
LOCATION:Luxemburg\, Lulzhausen
CATEGORIES:Ontdek Je Stekje,Trips en reisjes,Vrijduiken
ATTACH;FMTTYPE=image/jpeg:https://www.fata-aquana.nl/wp-content/uploads/2018/01/22496131_2050228198530090_481542449689343805_o.jpg
ORGANIZER;CN="Fata Aquana":MAILTO:info@fata-aquana.nl
END:VEVENT
BEGIN:VEVENT
DTSTART;VALUE=DATE:20230427
DTEND;VALUE=DATE:20230428
DTSTAMP:20260421T070323
CREATED:20230424T155842Z
LAST-MODIFIED:20230424T155842Z
UID:130399-1682553600-1682639999@www.fata-aquana.nl
SUMMARY:Koningsdag - Fata gesloten
DESCRIPTION:Koningsdag! Maak er een geweldige\, feestelijke dag van!
URL:https://www.fata-aquana.nl/agenda/koningsdag-fata-gesloten-2-2-2/
LOCATION:Nederland\, Nederland
CATEGORIES:Feestdagen
ATTACH;FMTTYPE=image/jpeg:https://www.fata-aquana.nl/wp-content/uploads/feestkoningsdag.jpg
ORGANIZER;CN="Fata Aquana":MAILTO:info@fata-aquana.nl
END:VEVENT
END:VCALENDAR